BEGIN:VCALENDAR
VERSION:2.0
PRODID:-//Boston Debate League - ECPv6.15.20//NONSGML v1.0//EN
CALSCALE:GREGORIAN
METHOD:PUBLISH
X-WR-CALNAME:Boston Debate League
X-ORIGINAL-URL:https://www.bostondebate.org
X-WR-CALDESC:Events for Boston Debate League
REFRESH-INTERVAL;VALUE=DURATION:PT1H
X-Robots-Tag:noindex
X-PUBLISHED-TTL:PT1H
BEGIN:VTIMEZONE
TZID:UTC
BEGIN:STANDARD
TZOFFSETFROM:+0000
TZOFFSETTO:+0000
TZNAME:UTC
DTSTART:20230101T000000
END:STANDARD
END:VTIMEZONE
BEGIN:VTIMEZONE
TZID:Asia/Karachi
BEGIN:STANDARD
TZOFFSETFROM:+0500
TZOFFSETTO:+0500
TZNAME:PKT
DTSTART:20250101T000000
END:STANDARD
END:VTIMEZONE
BEGIN:VEVENT
DTSTART;TZID=UTC:20260207T083000
DTEND;TZID=UTC:20260207T124500
DTSTAMP:20260423T141337
CREATED:20231130T100227Z
LAST-MODIFIED:20251105T152351Z
UID:15051-1770453000-1770468300@www.bostondebate.org
SUMMARY:Middle School Tournament 3 (Feb 7)
DESCRIPTION:Come join us for BDL’s third middle school tournament of the season. \nInterested in being a Volunteer Judge for this tournament?Judge Shift: 8:30am – 12:45pm➤ Sign Up to Judge
URL:https://www.bostondebate.org/event/middle-school-tournament-3-feb-7/
LOCATION:Boston Latin Academy\, 205 Townsend Street\, Roxbury\, 02121\, United States
CATEGORIES:Debate Tournament
END:VEVENT
BEGIN:VEVENT
DTSTART;TZID=UTC:20260206T150000
DTEND;TZID=UTC:20260206T194500
DTSTAMP:20260423T141337
CREATED:20231130T095133Z
LAST-MODIFIED:20251105T153220Z
UID:15049-1770390000-1770407100@www.bostondebate.org
SUMMARY:Middle School Tournament 3 (Feb 6)
DESCRIPTION:Come join us for BDL’s third middle school tournament of the season. \nInterested in being a Volunteer Judge for this tournament?Judge Shift: 3:00pm – 7:45pm➤ Sign Up to Judge
URL:https://www.bostondebate.org/event/middle-school-tournament-3-feb-6/
LOCATION:Boston Latin Academy\, 205 Townsend Street\, Roxbury\, 02121\, United States
CATEGORIES:Debate Tournament
END:VEVENT
BEGIN:VEVENT
DTSTART;TZID=UTC:20260124T080000
DTEND;TZID=UTC:20260124T131500
DTSTAMP:20260423T141337
CREATED:20231130T100650Z
LAST-MODIFIED:20251031T052626Z
UID:15053-1769241600-1769260500@www.bostondebate.org
SUMMARY:High School Tournament 4 (Jan 24)
DESCRIPTION:Black & Latinx Professionals Affinity and Networking SessionJoin After School Debate and Debate en Español for BDL’s fourth high school tournament of the season and our Black & Latinx Professionals Affinity.\nInterested in being a Volunteer Judge for this tournament?Judge Shift: 8:00am – 1:15pm➤ English / en Español
URL:https://www.bostondebate.org/event/high-school-tournament-4-jan-24/
LOCATION:Suffolk University\, 120 Tremont Street\, Boston\, MA\, 02108\, United States
CATEGORIES:Debate Tournament
END:VEVENT
BEGIN:VEVENT
DTSTART;TZID=Asia/Karachi:20260123T150000
DTEND;TZID=Asia/Karachi:20260123T201500
DTSTAMP:20260423T141337
CREATED:20231127T070229Z
LAST-MODIFIED:20251031T052607Z
UID:15013-1769180400-1769199300@www.bostondebate.org
SUMMARY:High School Tournament 4 (Jan 23)
DESCRIPTION:Black & Latinx Professionals AffinityJoin After School Debate and Debate en Español for BDL’s fourth high school tournament of the season and our Black & Latinx Professionals Affinity.\nInterested in being a Volunteer Judge for this tournament?Judge Shift: 3:00pm – 8:15pm➤ English / en Español
URL:https://www.bostondebate.org/event/high-school-tournament-3/
LOCATION:Suffolk University\, 120 Tremont Street\, Boston\, MA\, 02108\, United States
CATEGORIES:Debate Tournament
END:VEVENT
BEGIN:VEVENT
DTSTART;TZID=UTC:20251213T083000
DTEND;TZID=UTC:20251213T164500
DTSTAMP:20260423T141337
CREATED:20231126T150923Z
LAST-MODIFIED:20251031T052445Z
UID:15006-1765614600-1765644300@www.bostondebate.org
SUMMARY:Middle School Tournament 2 (Dec 13)
DESCRIPTION:STEM Affinity\nCome join us for BDL’s second middle school tournament of the season and our STEM Affinity\, where we will welcome STEM professionals from across the city. \nInterested in being a Volunteer Judge for this tournament?Judge Shift: 8:30am – 4:45pm➤ Sign Up to Judge
URL:https://www.bostondebate.org/event/middle-school-tournament-2/
LOCATION:Josiah Quincy Upper School\, 900 Washington Street\, Boston\, MA\, 02111\, United States
CATEGORIES:Debate Tournament
END:VEVENT
BEGIN:VEVENT
DTSTART;TZID=UTC:20251121T150000
DTEND;TZID=UTC:20251121T201500
DTSTAMP:20260423T141337
CREATED:20231130T111452Z
LAST-MODIFIED:20251031T052135Z
UID:15068-1763737200-1763756100@www.bostondebate.org
SUMMARY:High School Tournament 2 (Nov 21)
DESCRIPTION:Legal AffinityJoin After School Debate and Debate en Español for BDL’s second high school tournament of the season with legal professionals from across the city.\nInterested in being a Volunteer Judge for this tournament?Judge Shift: 3:00pm – 8:15pm➤ English / en Español
URL:https://www.bostondebate.org/event/high-school-tournament-2-nov-18/
LOCATION:Suffolk University\, 120 Tremont Street\, Boston\, MA\, 02108\, United States
CATEGORIES:Debate Tournament
END:VEVENT
BEGIN:VEVENT
DTSTART;TZID=UTC:20251108T083000
DTEND;TZID=UTC:20251108T124500
DTSTAMP:20260423T141337
CREATED:20231130T105609Z
LAST-MODIFIED:20251031T052051Z
UID:15064-1762590600-1762605900@www.bostondebate.org
SUMMARY:Middle School Tournament 1 (Nov 8)
DESCRIPTION:Come join us for BDL’s first middle school tournament of the season. \nInterested in being a Volunteer Judge for this tournament?Judge Shift: 8:30am – 12:45pm➤ Sign Up to Judge
URL:https://www.bostondebate.org/event/middle-school-tournament-1-nov-16/
LOCATION:Boston Latin Academy\, 205 Townsend Street\, Roxbury\, 02121\, United States
CATEGORIES:Debate Tournament
END:VEVENT
BEGIN:VEVENT
DTSTART;TZID=UTC:20251107T150000
DTEND;TZID=UTC:20251107T194500
DTSTAMP:20260423T141337
CREATED:20231130T110131Z
LAST-MODIFIED:20251031T052055Z
UID:15066-1762527600-1762544700@www.bostondebate.org
SUMMARY:Middle School Tournament 1 (Nov 7)
DESCRIPTION:Come join us for BDL’s first middle school tournament of the season. \nInterested in being a Volunteer Judge for this tournament?Judge Shift: 3:00pm – 7:45pm➤ Sign Up to Judge
URL:https://www.bostondebate.org/event/middle-school-tournament-1-nov-15/
LOCATION:Boston Latin Academy\, 205 Townsend Street\, Roxbury\, 02121\, United States
CATEGORIES:Debate Tournament
END:VEVENT
BEGIN:VEVENT
DTSTART;TZID=UTC:20251025T080000
DTEND;TZID=UTC:20251025T131500
DTSTAMP:20260423T141337
CREATED:20231130T104934Z
LAST-MODIFIED:20251031T051810Z
UID:15062-1761379200-1761398100@www.bostondebate.org
SUMMARY:High School Tournament 1 (Oct 25)
DESCRIPTION:College Pride AffinityJoin After School Debate and Debate en Español for BDL’s first high school tournament of the season\, and our College Pride Affinity. \nInterested in being a Volunteer Judge for this tournament?Judge Shift: 8:00am – 1:15pm➤ English / en Español
URL:https://www.bostondebate.org/event/high-school-tournament-1-nov-2/
LOCATION:English High School\, 144 Mcbride Street\, Jamaica Plain\, MA\, 02130\, United States
CATEGORIES:Debate Tournament
END:VEVENT
BEGIN:VEVENT
DTSTART;TZID=UTC:20251024T150000
DTEND;TZID=UTC:20251024T201500
DTSTAMP:20260423T141337
CREATED:20231130T104224Z
LAST-MODIFIED:20251031T051730Z
UID:15060-1761318000-1761336900@www.bostondebate.org
SUMMARY:High School Tournament 1 (Oct 24)
DESCRIPTION:College Pride AffinityJoin After School Debate and Debate en Español for BDL’s first high school tournament of the season\, and our College Pride Affinity event. \nInterested in being a Volunteer Judge for this tournament?Judge Shift: 3:00pm – 8:15pm➤ English / en Español
URL:https://www.bostondebate.org/event/high-school-tournament-1-nov-1/
LOCATION:English High School\, 144 Mcbride Street\, Jamaica Plain\, MA\, 02130\, United States
CATEGORIES:Debate Tournament
END:VEVENT
BEGIN:VEVENT
DTSTART;TZID=UTC:20250818T083000
DTEND;TZID=UTC:20250819T160000
DTSTAMP:20260423T141337
CREATED:20240425T161911Z
LAST-MODIFIED:20250628T101949Z
UID:15336-1755505800-1755619200@www.bostondebate.org
SUMMARY:Debate-Inspired Educator Summer Institute (Aug 18 - 19)
DESCRIPTION:Join educators in Boston and beyond for introductory and advanced workshops on debate-inspired classroom strategies\, taught by teachers\, for teachers; a series of workshops for policy debate coaches to prepare coaches for the 2025-26 resolution and cases; and opportunities to learn and be inspired with a community of debate-inspired educators.\n➤ Learn More and Register Here
URL:https://www.bostondebate.org/event/debate-inspired-educator-summer-institute-aug-21-22/
LOCATION:Suffolk University\, 120 Tremont Street\, Boston\, MA\, 02108\, United States
END:VEVENT
BEGIN:VEVENT
DTSTART;TZID=UTC:20250804T083000
DTEND;TZID=UTC:20250815T153000
DTSTAMP:20260423T141337
CREATED:20240424T181051Z
LAST-MODIFIED:20250402T131347Z
UID:15327-1754296200-1755271800@www.bostondebate.org
SUMMARY:Summer Debate Camp 2025 (Aug 4 - Aug 15)
DESCRIPTION:Join us for BDL’s free Summer Debate Camp\, which offers students an excellent opportunity to engaged in debate and argumentation\, to develop their public speaking and leadership skills\, and to learn about the Policy Debate topic for next year.\nInterested in Debate Camp?➤ Register Here
URL:https://www.bostondebate.org/event/summer-debate-camp-2024/
LOCATION:Suffolk University\, 120 Tremont Street\, Boston\, MA\, 02108\, United States
CATEGORIES:Summer Debate Camp
END:VEVENT
BEGIN:VEVENT
DTSTART;TZID=UTC:20250410T160000
DTEND;TZID=UTC:20250410T180000
DTSTAMP:20260423T141337
CREATED:20240424T145856Z
LAST-MODIFIED:20250402T200234Z
UID:15323-1744300800-1744308000@www.bostondebate.org
SUMMARY:Race\, Equity\, and Policy Series: AI in Education (Apr 10)
DESCRIPTION:This spring’s Race\, Equity\, and Policy Series will focus on AI in Education. Artificial Intelligence is a readily available\, powerful tool with ever-growing potential to positively contribute to education and learning. AI is here to stay\, yet its widespread use raises concerns: How can educators continue to advance students’ skills in writing and critical thinking without banning the use of AI\, acknowledging that understanding AI is a valuable skill for students and educators both now and in the future?\n➤ Register here to attend this event!
URL:https://www.bostondebate.org/event/rep-series-spring-forum-economic-justice/
LOCATION:Roxbury Community College\, 1234 Columbus Ave\, Boston\, MA\, 02120\, United States
CATEGORIES:REP Event
END:VEVENT
BEGIN:VEVENT
DTSTART;TZID=UTC:20251219T150000
DTEND;TZID=UTC:20251219T201500
DTSTAMP:20260423T141337
CREATED:20231130T091823Z
LAST-MODIFIED:20250628T014711Z
UID:15046-1766156400-1766175300@www.bostondebate.org
SUMMARY:High School Tournament 3 (Dec 19)
DESCRIPTION:Black & Civic Leaders Judge for a DayJoin After School Debate and Debate en Español for BDL’s third high school tournament of the season as our civic leaders serve as judges for a day.\nInterested in being a Volunteer Judge for this tournament?Judge Shift: 3:00pm – 8:15pm➤ English / en Español
URL:https://www.bostondebate.org/event/high-school-tournament-3-jan-13/
LOCATION:Suffolk University\, 120 Tremont Street\, Boston\, MA\, 02108\, United States
CATEGORIES:Debate Tournament
END:VEVENT
BEGIN:VEVENT
DTSTART;TZID=UTC:20240912T150000
DTEND;TZID=UTC:20240912T170000
DTSTAMP:20260423T141337
CREATED:20240824T033440Z
LAST-MODIFIED:20240826T123022Z
UID:15530-1726153200-1726160400@www.bostondebate.org
SUMMARY:Coach Crash Course (Sept 12th)
DESCRIPTION:The Boston Debate League’s Coach Crash Course provides debate coaches who were unable to attend the Debate-Inspired Educator Institute an opportunity to prepare for the upcoming debate season\, build their debate knowledge and coaching skills\, and be in a learning community with other amazing debate coaches.\n➤  Register Here  |  Zoom Link
URL:https://www.bostondebate.org/event/coach-crash-course-sept-12th/
LOCATION:Online
END:VEVENT
END:VCALENDAR